BEGIN:VCALENDAR
VERSION:2.0
PRODID:-//Catalina Foothills Church - ECPv6.15.20//NONSGML v1.0//EN
CALSCALE:GREGORIAN
METHOD:PUBLISH
X-ORIGINAL-URL:https://cfcpca.org
X-WR-CALDESC:Events for Catalina Foothills Church
REFRESH-INTERVAL;VALUE=DURATION:PT1H
X-Robots-Tag:noindex
X-PUBLISHED-TTL:PT1H
BEGIN:VTIMEZONE
TZID:America/Phoenix
BEGIN:STANDARD
TZOFFSETFROM:-0700
TZOFFSETTO:-0700
TZNAME:MST
DTSTART:20250101T000000
END:STANDARD
END:VTIMEZONE
BEGIN:VEVENT
DTSTART;TZID=America/Phoenix:20260428T183000
DTEND;TZID=America/Phoenix:20260428T200000
DTSTAMP:20260425T090008
CREATED:20260327T150740Z
LAST-MODIFIED:20260327T150741Z
UID:10000545-1777401000-1777406400@cfcpca.org
SUMMARY:Strengthening Dads Class
DESCRIPTION:Strengthening Dads begins Tuesday\, September 23\, and meets monthly on one Tuesday each month from 6:30pm – 8:30pm\, September to April. The cost for the class is $25 (scholarships available). Strengthening Dads is a place for men who are in the midst of raising children. Men who like all of us\, realize that marriage and parenting is hard… especially when you desire to do it well. You will experience men that you can build friendships with who are in your season of life\, and be encouraged with practical and Scripture-based equipping and mentoring. Dads with children of all ages are welcome! \n\nRegister Here.\n______________________________________ \n\n\n\n\nThere are two options being offered:\n\nMonthly Gathering and Mentoring. When you register for this\, you will attend our monthly gathering that will feature a catered dinner\, time to connect and meet other men\, a practical talk focused on helping you intentionally grow as a husband and father\, and then we’ll wrap up with some Q/A. You will also be placed in a group with other men who are your age and stage who desire to meet with a mentor once a month outside of our monthly gathering. This will be a group of 3-4 designed to help you wrestle with how to apply these things more in your life\, as well as a place for you to get encouragement in the places where you feel like you’re failing and/or really struggling. Once assigned\, your group will choose a day and time that works best for you to meet monthly outside of our Tuesday night gathering. Please note: Mentor group spots fill fast\, and we unfortunately have limited spots. These will be placed on a first-come\, first- served basis due to limited mentors and a desire to keep these groups smaller.\nMonthly Gathering Only. When you register for this\, you will be registered for our monthly gathering alone. We will not assign you to a mentor group. The monthly gathering will remain open all year; however\, you do have to register to join because of meal and resource prep. Once you register\, you are set for the 2025-26 year.\n\n  \n______________________________________________________________________ \n\nHere is a sampling of the types of topics we will look to help you with…\n\nBalancing Work\, Family\, and Commitments\nConsistent difficulty in giving enough time and energy to work\, spouse\, children\, church\, and other obligations.\nSpiritual Leadership and Impact on Kids\nUncertainty about how to lead spiritually at home\, what does it mean when my wife asks me to be the spiritual leader\, whether efforts are effective\, and how much to push children in faith. Confusion on what it means to bring Jesus into my marriage and parenting.\nCommunication Issues\nChallenges in open\, effective communication with spouse and children\, including feeling misunderstood or unable to express struggles.\nQuality Time with Kids\nStruggles to spend meaningful\, undistracted time with children\, often feeling that time together is not as valuable as desired.\nDisciplining Kids\nDifficulty in finding the right approach to discipline\, balancing firmness with understanding\, and supporting the spouse’s methods.\nFeeling Disconnected from Spouse\nExperiencing a “roommate lifestyle” where emotional connection and intimacy with spouse are lacking due to busy schedules.\nLack of Time for Self and Family\nFeeling there is never enough time for personal interests\, family activities\, or one-on-one time with spouse.\n\n\n\n\n\n\n\n\n\n\nAddictions and Escapes\nUse of alcohol\, work\, internet\, sports\, or other distractions as coping mechanisms for stress or dissatisfaction.\nLetting Kids Learn from Failure\nStruggling to allow children to experience failure and learn from it\, rather than stepping in to prevent mistakes.\nFeeling Unappreciated by Spouse\nA sense that efforts as a provider or partner are not recognized or valued.\nLack of Motivation and Exhaustion\nMental and physical fatigue from work and life demands\, leading to low motivation for family engagement or planning.\nBalancing Personal Projects and Family Time\nTension between pursuing hobbies or projects and spending sufficient time with family.\nFear of Life Passing By\nConcern about falling into a monotonous routine and missing out on meaningful experiences or adventures with family.\nOverestimating Kids’ Performance\nAnxiety about children’s achievements as a reflection of parental success\, leading to pressure on both parent and child.\nLack of Perspective on Kids’ Development\nUncertainty about what normal progress looks like for children causing unnecessary worry about their abilities or milestones\n\n  \n___________________\n\nCommon Questions\n\nDo I need to be a dad to attend Strengthening Dads? This program is designed for men who are currently raising children.\nDo I need to be a member or attend Catalina Foothills Church to enroll? Nope! Whether you attend a different church or don’t attend a church at all\, you are welcome and encouraged to come and join us!\nWe are pregnant with our first child\, and/or we are married and want to start a family soon. Can I attend to start thinking about these topics? Absolutely. We think taking time to prepare and wrestle with these topics is very helpful in preparing for fatherhood.\nCan I invite other friends to join or invite friends after the class has started? Absolutely! We encourage you to invite men to join this journey with you! Our monthly gathering will remain open all year for men to register and join us. However\, our mentor groups are limited due to the availability of mentors. Once those spots are filled\, we can no longer place people in mentor groups.\nWill you be offering childcare? At this time\, we do not know. We plan to poll men at our September gathering to see if there is truly a need.\n\nHAVE MORE QUESTIONS? Contact Chad Turner (chad@cfcpca.org)\, he would love to talk with you about any questions or concerns you might have. \n\n\n\n\n 
URL:https://cfcpca.org/event/strengthening-dads-class-begins-2-2-2/
CATEGORIES:Men
END:VEVENT
END:VCALENDAR